BEGIN:VCALENDAR
VERSION:2.0
PRODID:-//ChamberMaster//Event Calendar 2.0//EN
METHOD:PUBLISH
X-PUBLISHED-TTL:P3D
REFRESH-INTERVAL:P3D
CALSCALE:GREGORIAN
BEGIN:VEVENT
DTSTART:20220927T160000Z
DTEND:20220927T163000Z
X-MICROSOFT-CDO-ALLDAYEVENT:FALSE
SUMMARY:Ribbon Cutting | Octapharma Plasma
DESCRIPTION:Octapharma Plasma's vision is to improve the quality of life of everyone they serve through the life-changing power of plasma. With over 180 donation centers and offices in 31 countries\, they are committed to changing the world.  \n\n\n\nOn behalf of Octapharma Plasma\, the Greater Coachella Valley Chamber of Commerce invites you to attend their ribbon-cutting celebration. Join us to learn about the uniqueness of plasma and why it's said to be "the gift of life". Be the first to tour Octapharma Plasma's newest facility. The ribbon-cutting ceremony will take place at their Indio facility at 9:00 am. \n\n \n\nWe look forward to seeing you there. For additional information contact the Chamber at 760.347.0676.
X-ALT-DESC;FMTTYPE=text/html:<p style="box-sizing: border-box\; margin-top: 0px\; margin-right: 0px\; margin-bottom: var(--tec-spacer-3)\; margin-left: 0px\; font-size: var(--tec-font-size-4)\; line-height: var(--tec-line-height-2)\; color: rgb(20\, 24\, 39)\; font-family: &quot\;Helvetica Neue&quot\;\, Helvetica\, -apple-system\, BlinkMacSystemFont\, Roboto\, Arial\, sans-serif\;"><a href="https://www.octapharmaplasma.com/">Octapharma Plasma&#39\;s</a> vision is to improve the quality of life of everyone they serve through the life-changing power of plasma. With over 180 donation centers and&nbsp\;offices in 31 countries\, they are committed to changing the world.&nbsp\;&nbsp\;<br />\n<br />\nOn behalf of Octapharma Plasma\, the Greater Coachella Valley Chamber of Commerce invites you to attend their ribbon-cutting&nbsp\;celebration. Join us to learn about the uniqueness of plasma and why it&#39\;s said to be&nbsp\;&quot\;the gift of life&quot\;. Be the first to&nbsp\;tour Octapharma Plasma&#39\;s newest facility. The ribbon-cutting ceremony will take place at their Indio facility at 9:00 am.&nbsp\;<br />\n&nbsp\;</p>\n\n<p style="box-sizing: border-box\; margin-top: 0px\; margin-right: 0px\; margin-bottom: var(--tec-spacer-6)\; margin-left: 0px\; font-size: var(--tec-font-size-4)\; line-height: var(--tec-line-height-2)\; color: rgb(20\, 24\, 39)\; font-family: &quot\;Helvetica Neue&quot\;\, Helvetica\, -apple-system\, BlinkMacSystemFont\, Roboto\, Arial\, sans-serif\;">We look forward to seeing you there. For additional information contact the Chamber at 760.347.0676.</p>\n
LOCATION:81940 Highway 111 | Indio\, CA 92201
UID:e.1137.4899
SEQUENCE:3
DTSTAMP:20260426T015703Z
URL:http://gcvcc.chambermaster.com/events/details/ribbon-cutting-octapharma-plasma-4899
END:VEVENT

END:VCALENDAR
